BEGIN:VCALENDAR
VERSION:2.0
PRODID:-//The Cycle Hub - Bike Shop &amp; Servicing - ECPv6.15.20//NONSGML v1.0//EN
CALSCALE:GREGORIAN
METHOD:PUBLISH
X-ORIGINAL-URL:https://thecyclehub.co.uk
X-WR-CALDESC:Events for The Cycle Hub - Bike Shop &amp; Servicing
REFRESH-INTERVAL;VALUE=DURATION:PT1H
X-Robots-Tag:noindex
X-PUBLISHED-TTL:PT1H
BEGIN:VTIMEZONE
TZID:UTC
BEGIN:STANDARD
TZOFFSETFROM:+0000
TZOFFSETTO:+0000
TZNAME:UTC
DTSTART:20250101T000000
END:STANDARD
END:VTIMEZONE
BEGIN:VEVENT
DTSTART;TZID=UTC:20260304T173000
DTEND;TZID=UTC:20260304T190000
DTSTAMP:20260421T210303
CREATED:20260212T151515Z
LAST-MODIFIED:20260219T092716Z
UID:1302-1772645400-1772650800@thecyclehub.co.uk
SUMMARY:The Cycle Hub Women's Evening
DESCRIPTION:Come on down for an evening of informative bike chat with like minded ladies at The Cycle Hub! \nWhat’s in store? \n\n\n\n\n\nNutrition – Why fuel\, when to fuel\, what to fuel!  A deep dive on SIS products and lots of free samples!\nMid-Ride “Get Out Of Jail” Maintenance – Saddle bag essentials and how to use them\, tips and tricks for roadside repairs and handy products to keep you out of trouble!\nClothing – What to wear\, how to layer and figuring out fit!\nPost-Ride Maintenance – Cleaning\, lubing and general bike care tips!\n\nProducts available to purchase that evening – Special bundles and offers available on products and clothing used and seen on the evening! \n\nClick Here To Register – Limited Spaces Available!
URL:https://thecyclehub.co.uk/event/ladiesnight/
LOCATION:The Cycle Hub\, 1B Interlinq Trade Park\, Queensferry\, CH52DW\, United Kingdom
CATEGORIES:Evening Socials
END:VEVENT
BEGIN:VEVENT
DTSTART;TZID=UTC:20260318T173000
DTEND;TZID=UTC:20260318T193000
DTSTAMP:20260421T210303
CREATED:20260218T092034Z
LAST-MODIFIED:20260311T081654Z
UID:1306-1773855000-1773862200@thecyclehub.co.uk
SUMMARY:SRAM Road & Gravel Evening
DESCRIPTION:Come join us to find out all about the latest and greatest SRAM drop bar componentry & ZIPP wheelsets! \nIn recent years\, SRAM have been forging ahead with innovative drivetrain product development!  Come along and find out all about how real rider input has driven design and a take a peak at the latest cutting edge tech! \n\nQ&A With SRAM Representatives\nNew Product Previews & Presentations\nFree Refreshments\n\nSign Up Here – Limited Spaces Available!
URL:https://thecyclehub.co.uk/event/sram-road-gravel-evening/
LOCATION:The Cycle Hub\, 1B Interlinq Trade Park\, Queensferry\, CH52DW\, United Kingdom
CATEGORIES:Evening Socials
END:VEVENT
END:VCALENDAR